BEGIN:VCALENDAR
VERSION:2.0
PRODID:iCalendar-Evo
X-WR-TIMEZONE:America/New_York
BEGIN:VEVENT
DTSTAMP:20260424THI4932Z
URL:https://www.east-windsor.nj.us/events/99505/
DTSTART;TZID=America/New_York:20260520T150000
DTEND;TZID=America/New_York:20260520T190000
SUMMARY:Safety Seat Inspection
DESCRIPTION:Friday, May 15, The Learning Experience (761 Route 33) (Click Here for Event Flyer) 
UID:5aec461d-e218-4c47-bce2-1a2459b06c3b20260520T190000@www.east-windsor.nj.us
END:VEVENT
END:VCALENDAR