BEGIN:VCALENDAR
VERSION:2.0
PRODID:iCalendar-Evo
X-WR-TIMEZONE:America/New_York
BEGIN:VEVENT
DTSTAMP:20260421THI0807Z
URL:https://www.east-windsor.nj.us/events/99472/
DTSTART;TZID=America/New_York:20260515T150000
DTEND;TZID=America/New_York:20260515T190000
SUMMARY:Safety Seat Inspection
DESCRIPTION:Friday, May 15, The Learning Experience (761 Route 33) (Click Here for Event Flyer) 
UID:f35772c9-2eb5-45a4-9b44-eb1768e82be720260515T190000@www.east-windsor.nj.us
END:VEVENT
END:VCALENDAR