BEGIN:VCALENDAR
VERSION:2.0
PRODID:iCalendar-Evo
X-WR-TIMEZONE:America/New_York
BEGIN:VEVENT
DTSTAMP:20260421THI1917Z
URL:https://www.east-windsor.nj.us/events/99471/
DTSTART;TZID=America/New_York:20260501T150000
DTEND;TZID=America/New_York:20260501T190000
SUMMARY:Safety Seat Inspection
DESCRIPTION:Friday, May 1, Primrose School (191 Dutch Neck Road) (Click Here for Event Flyer) 
UID:32ac483e-c638-4f73-8780-793d9bef112520260501T190000@www.east-windsor.nj.us
END:VEVENT
END:VCALENDAR