BEGIN:VCALENDAR
VERSION:2.0
PRODID:iCalendar-Evo
X-WR-TIMEZONE:America/New_York
BEGIN:VEVENT
DTSTAMP:20260420THI5736Z
URL:https://www.east-windsor.nj.us/events/99470/
DTSTART;TZID=America/New_York:20260421T150000
DTEND;TZID=America/New_York:20260421T190000
SUMMARY:Safety Seat Inspection
DESCRIPTION:Tuesday, April 21, Twin Rivers Head Start (569 Abbington Drive, East Windsor) (Click Here for Event Flyer) 
UID:824f1c09-aaac-485c-9765-134cc4d5d29220260421T190000@www.east-windsor.nj.us
END:VEVENT
END:VCALENDAR