BEGIN:VCALENDAR
VERSION:2.0
PRODID:iCalendar-Evo
X-WR-TIMEZONE:America/New_York
BEGIN:VEVENT
DTSTAMP:20260423THI0110Z
URL:https://www.east-windsor.nj.us/events/98893/
DTSTART;TZID=America/New_York:20260411T100000
DTEND;TZID=America/New_York:20260411T130000
SUMMARY:East Windsor Township Recycling and Shredding Event, Saturday, April 11, from 10 A.M. to 1 P.M., Senior Center (40 Lanning Boulevard(Click Here For Event Flyer)
DESCRIPTION:
LOCALITY:East Windsor
REGION:New Jersey
POSTAL-CODE:08520
UID:1ccc0ed4-49c1-4c00-9def-ef2bdfc1ac1720260411T140000@www.east-windsor.nj.us
END:VEVENT
END:VCALENDAR