BEGIN:VCALENDAR
VERSION:2.0
PRODID:iCalendar-Evo
X-WR-TIMEZONE:America/New_York
BEGIN:VEVENT
DTSTAMP:20260423THI0133Z
URL:https://www.east-windsor.nj.us/events/93818/
DTSTART;TZID=America/New_York:20251108T130000
DTEND;TZID=America/New_York:20251108T150000
SUMMARY:11-8-25 Rabies Clinic
DESCRIPTION: 
LOCATION:East Windsor Township Volunteer Fire Company #1 (Station 42) at 51 One Mile Road, East Windsor, New Jersey 08520
GEO:40.272389199997;-74.54561950000785
STREET-ADDRESS:51 One Mile Road
LOCALITY:East Windsor
REGION:New Jersey
POSTAL-CODE:08520
UID:e316c679-03dc-41ed-ad6e-2925439dc2a720251108T180000@www.east-windsor.nj.us
END:VEVENT
END:VCALENDAR